BEGIN:VCALENDAR
VERSION:2.0
PRODID:-//jEvents 2.0 for Joomla//EN
CALSCALE:GREGORIAN
METHOD:PUBLISH
BEGIN:VEVENT
UID:c3c5e996ca22942972905001a58efe0a
CATEGORIES:Veranstaltungen
CREATED:20240919T093508
SUMMARY:Podiumsdiskussion Demokratiewochen in der Sporthalle Reutte
DESCRIPTION:
DTSTAMP:20260425T204011
DTSTART:20240925T080000
DTEND:20240925T100000
SEQUENCE:0
TRANSP:OPAQUE
END:VEVENT
END:VCALENDAR