BEGIN:VCALENDAR
VERSION:2.0
PRODID:-//jEvents 2.0 for Joomla//EN
CALSCALE:GREGORIAN
METHOD:PUBLISH
BEGIN:VEVENT
UID:133cb5a97a297d3a15ade2ecc5c29662
CATEGORIES:Veranstaltungen
CREATED:20240626T145421
SUMMARY:Schlussgottesdienst
DESCRIPTION:
DTSTAMP:20260425T235116
DTSTART:20240705T060000
DTEND:20240705T070000
SEQUENCE:0
TRANSP:OPAQUE
END:VEVENT
END:VCALENDAR