BEGIN:VCALENDAR
VERSION:2.0
PRODID:-//jEvents 2.0 for Joomla//EN
CALSCALE:GREGORIAN
METHOD:PUBLISH
BEGIN:VEVENT
UID:f96671f8534585082c75fa7e548cc572
CATEGORIES:Veranstaltungen
CREATED:20240626T145247
SUMMARY:Wienwoche 4. und 5. HTL-Klassen
DESCRIPTION:
DTSTAMP:20260425T171615
DTSTART:20241118T070000
DTEND:20241122T160000
SEQUENCE:0
TRANSP:OPAQUE
END:VEVENT
END:VCALENDAR