BEGIN:VCALENDAR
VERSION:2.0
PRODID:-//jEvents 2.0 for Joomla//EN
CALSCALE:GREGORIAN
METHOD:PUBLISH
BEGIN:VEVENT
UID:d80481033a3825956f52676b8ab789e9
CATEGORIES:Veranstaltungen
CREATED:20240626T145012
SUMMARY:1.Nebentermin Reife- und Diplomprüfung - mündliche Prüfungen
DESCRIPTION:
DTSTAMP:20260425T185649
DTSTART:20241024T060000
DTEND:20241024T120000
SEQUENCE:0
TRANSP:OPAQUE
END:VEVENT
END:VCALENDAR