BEGIN:VCALENDAR
VERSION:2.0
PRODID:-//jEvents 2.0 for Joomla//EN
CALSCALE:GREGORIAN
METHOD:PUBLISH
BEGIN:VEVENT
UID:1ad305321d634bb7a79a340538aae48a
CATEGORIES:Veranstaltungen
CREATED:20240626T144853
SUMMARY:1.Nebentermin Reife- und Diplomprüfung - Präsentation Diplomarbeit
DESCRIPTION:
DTSTAMP:20260425T185650
DTSTART:20241008T060000
DTEND:20241008T100000
SEQUENCE:0
TRANSP:OPAQUE
END:VEVENT
END:VCALENDAR