BEGIN:VCALENDAR
VERSION:2.0
PRODID:-//jEvents 2.0 for Joomla//EN
CALSCALE:GREGORIAN
METHOD:PUBLISH
BEGIN:VEVENT
UID:18585deb44c60d621b83e0073f001da3
CATEGORIES:Veranstaltungen
CREATED:20240626T144807
SUMMARY:1.Nebentermin Reife- und Diplomprüfung - nicht standardisierte Kompensationsprüfung
DESCRIPTION:
DTSTAMP:20260425T185316
DTSTART:20241008T060000
DTEND:20241008T150000
SEQUENCE:0
TRANSP:OPAQUE
END:VEVENT
END:VCALENDAR