BEGIN:VCALENDAR
VERSION:2.0
PRODID:-//jEvents 2.0 for Joomla//EN
CALSCALE:GREGORIAN
METHOD:PUBLISH
BEGIN:VEVENT
UID:e5aec9703c28c612ca98405aaecf5f82
CATEGORIES:Veranstaltungen
CREATED:20240626T144709
SUMMARY:1.Nebentermin Reife- und Diplomprüfung - standardisierte Kompensationsprüfung
DESCRIPTION:
DTSTAMP:20260425T185510
DTSTART:20241008T060000
DTEND:20241008T150000
SEQUENCE:0
TRANSP:OPAQUE
END:VEVENT
END:VCALENDAR