BEGIN:VCALENDAR
VERSION:2.0
PRODID:-//jEvents 2.0 for Joomla//EN
CALSCALE:GREGORIAN
METHOD:PUBLISH
BEGIN:VEVENT
UID:19dd2297da4c6f0005739b43fcac770a
CATEGORIES:Veranstaltungen
CREATED:20240626T144615
SUMMARY:Wiederholungsprüfungen 4wa und 4wb
DESCRIPTION:
DTSTAMP:20260425T185319
DTSTART:20241007T060000
DTEND:20241007T150000
SEQUENCE:0
TRANSP:OPAQUE
END:VEVENT
END:VCALENDAR