BEGIN:VCALENDAR
VERSION:2.0
PRODID:-//jEvents 2.0 for Joomla//EN
CALSCALE:GREGORIAN
METHOD:PUBLISH
BEGIN:VEVENT
UID:e4007cd32f9dc600944f936c29ab39b3
CATEGORIES:Veranstaltungen
CREATED:20240626T144549
SUMMARY:Schulbeginn 4wa und 4wb
DESCRIPTION:
DTSTAMP:20260425T185604
DTSTART:20241007T060000
DTEND:20241007T120000
SEQUENCE:0
TRANSP:OPAQUE
END:VEVENT
END:VCALENDAR