BEGIN:VCALENDAR
VERSION:2.0
PRODID:-//jEvents 2.0 for Joomla//EN
CALSCALE:GREGORIAN
METHOD:PUBLISH
BEGIN:VEVENT
UID:fb95d0c38352f6f2a601405392df369d
CATEGORIES:Veranstaltungen
CREATED:20240626T144446
SUMMARY:Rotarylauf
DESCRIPTION:
DTSTAMP:20260425T204349
DTSTART:20240920T120000
DTEND:20240920T150000
SEQUENCE:0
TRANSP:OPAQUE
END:VEVENT
END:VCALENDAR