BEGIN:VCALENDAR
VERSION:2.0
PRODID:-//jEvents 2.0 for Joomla//EN
CALSCALE:GREGORIAN
METHOD:PUBLISH
BEGIN:VEVENT
UID:8fc056ee14aa4bb7fdd884145521be7f
CATEGORIES:Veranstaltungen
CREATED:20240626T144412
SUMMARY:1.Nebentermin Reife- und Diplomprüfung Französisch
DESCRIPTION:
DTSTAMP:20260425T204527
DTSTART:20240920T060000
DTEND:20240920T110000
SEQUENCE:0
TRANSP:OPAQUE
END:VEVENT
END:VCALENDAR