BEGIN:VCALENDAR
VERSION:2.0
PRODID:-//jEvents 2.0 for Joomla//EN
CALSCALE:GREGORIAN
METHOD:PUBLISH
BEGIN:VEVENT
UID:6ecf27bfd19c368d2e4dfda40103b58f
CATEGORIES:Veranstaltungen
CREATED:20240626T144332
SUMMARY:1.Nebentermin Reife- und Diplomprüfung Englisch
DESCRIPTION:
DTSTAMP:20260425T204528
DTSTART:20240919T060000
DTEND:20240919T110000
SEQUENCE:0
TRANSP:OPAQUE
END:VEVENT
END:VCALENDAR