BEGIN:VCALENDAR
VERSION:2.0
PRODID:-//jEvents 2.0 for Joomla//EN
CALSCALE:GREGORIAN
METHOD:PUBLISH
BEGIN:VEVENT
UID:21ee2f57d5602126cbd0c970948f8bda
CATEGORIES:Veranstaltungen
CREATED:20240626T144241
SUMMARY:1.Nebentermin Reife- und Diplomprüfung Mathematik - Angewandte Mathematik
DESCRIPTION:
DTSTAMP:20260425T211606
DTSTART:20240918T060000
DTEND:20240918T110000
SEQUENCE:0
TRANSP:OPAQUE
END:VEVENT
END:VCALENDAR