BEGIN:VCALENDAR
VERSION:2.0
PRODID:-//jEvents 2.0 for Joomla//EN
CALSCALE:GREGORIAN
METHOD:PUBLISH
BEGIN:VEVENT
UID:4a4bebfb3ffe13cb507238d5d2822282
CATEGORIES:Veranstaltungen
CREATED:20240626T144200
SUMMARY:1.Nebentermin Reife- und Diplomprüfung Deutsch
DESCRIPTION:
DTSTAMP:20260425T203944
DTSTART:20240917T060000
DTEND:20240917T110000
SEQUENCE:0
TRANSP:OPAQUE
END:VEVENT
END:VCALENDAR