BEGIN:VCALENDAR
VERSION:2.0
PRODID:-//jEvents 2.0 for Joomla//EN
CALSCALE:GREGORIAN
METHOD:PUBLISH
BEGIN:VEVENT
UID:eb6848e6b36fd69eeebdb766c5566e3a
CATEGORIES:Veranstaltungen
CREATED:20240626T144121
SUMMARY:1.Nebentermin Reife- und Diplomprüfung BFK/ABR
DESCRIPTION:
DTSTAMP:20260425T204519
DTSTART:20240916T060000
DTEND:20240916T110000
SEQUENCE:0
TRANSP:OPAQUE
END:VEVENT
END:VCALENDAR