BEGIN:VCALENDAR
VERSION:2.0
PRODID:-//jEvents 2.0 for Joomla//EN
CALSCALE:GREGORIAN
METHOD:PUBLISH
BEGIN:VEVENT
UID:cb3f162f4029c8e6a2dc23e653ae3d70
CATEGORIES:Veranstaltungen
CREATED:20240626T144008
SUMMARY:Eröffnungskonferenz
DESCRIPTION:
DTSTAMP:20260425T204008
DTSTART:20240911T120000
DTEND:20240911T140000
SEQUENCE:0
TRANSP:OPAQUE
END:VEVENT
END:VCALENDAR