BEGIN:VCALENDAR
VERSION:2.0
PRODID:-//jEvents 2.0 for Joomla//EN
CALSCALE:GREGORIAN
METHOD:PUBLISH
BEGIN:VEVENT
UID:2c4d871fc5515009b27bc3c88ce41b31
CATEGORIES:Veranstaltungen
CREATED:20240626T143839
SUMMARY:Eröffnungsgottesdienst in der St.Anna-Kirche in Reutte
DESCRIPTION:
DTSTAMP:20260425T204009
DTSTART:20240911T060000
DTEND:20240911T070000
SEQUENCE:0
TRANSP:OPAQUE
END:VEVENT
END:VCALENDAR