BEGIN:VCALENDAR
VERSION:2.0
PRODID:-//jEvents 2.0 for Joomla//EN
CALSCALE:GREGORIAN
METHOD:PUBLISH
BEGIN:VEVENT
UID:64f987ad341893d39dd4470ff20bdb21
CATEGORIES:Veranstaltungen
CREATED:20240626T142736
SUMMARY:Neulehrer:innenbesprechung
DESCRIPTION:
DTSTAMP:20260425T204044
DTSTART:20240909T120000
DTEND:20240909T140000
SEQUENCE:0
TRANSP:OPAQUE
END:VEVENT
END:VCALENDAR