BEGIN:VCALENDAR
VERSION:2.0
PRODID:-//jEvents 2.0 for Joomla//EN
CALSCALE:GREGORIAN
METHOD:PUBLISH
BEGIN:VEVENT
UID:2886d9715dd8de1fb038b5800bb3bb27
CATEGORIES:Veranstaltungen
CREATED:20240626T140752
SUMMARY:Wiederholungsprüfungen
DESCRIPTION:
DTSTAMP:20260425T204010
DTSTART:20240909T060000
DTEND:20240910T150000
SEQUENCE:0
TRANSP:OPAQUE
END:VEVENT
END:VCALENDAR