BEGIN:VCALENDAR
VERSION:2.0
PRODID:-//jEvents 2.0 for Joomla//EN
CALSCALE:GREGORIAN
METHOD:PUBLISH
BEGIN:VEVENT
UID:f2c01ca326fd12733ccab07db6c8d163
CATEGORIES:Veranstaltungen
CREATED:20240528T081614
SUMMARY:mündliche Kompensationsprüfungen der nicht standardisierten Reife- und Diplomprüfung 2023/24
DESCRIPTION:
DTSTAMP:20260425T185512
DTSTART:20240604T060000
DTEND:20240604T120000
SEQUENCE:0
TRANSP:OPAQUE
END:VEVENT
END:VCALENDAR