BEGIN:VCALENDAR
VERSION:2.0
PRODID:-//jEvents 2.0 for Joomla//EN
CALSCALE:GREGORIAN
METHOD:PUBLISH
BEGIN:VEVENT
UID:3ec664b678dbf6665b61800f2e2ace36
CATEGORIES:Veranstaltungen
CREATED:20240515T145543
SUMMARY:Schulvorstellung "Jugendcoaching" von der Unternehmungsberatungs GmbH "die Berater"
DESCRIPTION:
DTSTAMP:20260425T185320
DTSTART:20240624T060000
DTEND:20240624T113000
SEQUENCE:0
TRANSP:OPAQUE
END:VEVENT
END:VCALENDAR