BEGIN:VCALENDAR
VERSION:2.0
PRODID:-//jEvents 2.0 for Joomla//EN
CALSCALE:GREGORIAN
METHOD:PUBLISH
BEGIN:VEVENT
UID:2987d553f93e15ce0e0e29efd9a54670
CATEGORIES:Veranstaltungen
CREATED:20240430T115106
SUMMARY:Gender-Switch-Tag der 4. Klassen
DESCRIPTION:
DTSTAMP:20260425T185520
DTSTART:20240619T060000
DTEND:20240619T150000
SEQUENCE:0
TRANSP:OPAQUE
END:VEVENT
END:VCALENDAR