BEGIN:VCALENDAR
VERSION:2.0
PRODID:-//jEvents 2.0 for Joomla//EN
CALSCALE:GREGORIAN
METHOD:PUBLISH
BEGIN:VEVENT
UID:89c3c935a6d1957008d9bed947d832df
CATEGORIES:Veranstaltungen
CREATED:20240430T114717
SUMMARY:französischer Workshop an der UNI Innsbruck für interessierte Schüler:innen der 4.Klassen mit einem kanadischen Poetry Slamer
DESCRIPTION:
DTSTAMP:20260425T185253
DTSTART:20240611T060000
DTEND:20240611T150000
SEQUENCE:0
TRANSP:OPAQUE
END:VEVENT
END:VCALENDAR