BEGIN:VCALENDAR
VERSION:2.0
PRODID:-//jEvents 2.0 for Joomla//EN
CALSCALE:GREGORIAN
METHOD:PUBLISH
BEGIN:VEVENT
UID:c9826cdd2752240048d39f59e64e4b77
CATEGORIES:Veranstaltungen
CREATED:20240430T114607
SUMMARY:Cocktailseminar für die 3.Klassen der HLW
DESCRIPTION:
DTSTAMP:20260425T171245
DTSTART:20240527T080000
DTEND:20240527T153000
SEQUENCE:0
TRANSP:OPAQUE
END:VEVENT
END:VCALENDAR