BEGIN:VCALENDAR
VERSION:2.0
PRODID:-//jEvents 2.0 for Joomla//EN
CALSCALE:GREGORIAN
METHOD:PUBLISH
BEGIN:VEVENT
UID:7dc25e59e1d6f4b594c0613f23f72b41
CATEGORIES:Veranstaltungen
CREATED:20240430T114458
SUMMARY:Einstiegskurs Latein für interessierte Schüler:Innen der 5.Klassen 
DESCRIPTION:
DTSTAMP:20260425T171411
DTSTART:20240516T060000
DTEND:20240516T150000
SEQUENCE:0
TRANSP:OPAQUE
END:VEVENT
END:VCALENDAR