BEGIN:VCALENDAR
VERSION:2.0
PRODID:-//jEvents 2.0 for Joomla//EN
CALSCALE:GREGORIAN
METHOD:PUBLISH
BEGIN:VEVENT
UID:646f3c56c9c95a672950af0bc69d2f67
CATEGORIES:Veranstaltungen
CREATED:20240430T114255
SUMMARY:Suchtprävention für die ersten Klassen HLW mit Frau PI Anewanter Ruth
DESCRIPTION:
DTSTAMP:20260425T171502
DTSTART:20240514T060000
DTEND:20240514T104000
SEQUENCE:0
TRANSP:OPAQUE
END:VEVENT
END:VCALENDAR