BEGIN:VCALENDAR
VERSION:2.0
PRODID:-//jEvents 2.0 for Joomla//EN
CALSCALE:GREGORIAN
METHOD:PUBLISH
BEGIN:VEVENT
UID:df3ecdba51ae995addb758d4dc07668d
CATEGORIES:Veranstaltungen
CREATED:20240430T114151
SUMMARY:Suchtprävention für die ersten Klassen HAK und HTL mit Frau PI Anewanter Ruth
DESCRIPTION:
DTSTAMP:20260425T171447
DTSTART:20240507T060000
DTEND:20240507T104000
SEQUENCE:0
TRANSP:OPAQUE
END:VEVENT
END:VCALENDAR