BEGIN:VCALENDAR
VERSION:2.0
PRODID:-//jEvents 2.0 for Joomla//EN
CALSCALE:GREGORIAN
METHOD:PUBLISH
BEGIN:VEVENT
UID:eea12ed10446319a854348bbbb903b70
CATEGORIES:Veranstaltungen
CREATED:20240415T081140
SUMMARY:Ball der HAK/HTL/HLW in der Ehrenberger Klause
DESCRIPTION:
DTSTAMP:20260425T204350
DTSTART:20241018T150000
DTEND:20241018T210000
SEQUENCE:0
TRANSP:OPAQUE
END:VEVENT
END:VCALENDAR