BEGIN:VCALENDAR
VERSION:2.0
PRODID:-//jEvents 2.0 for Joomla//EN
CALSCALE:GREGORIAN
METHOD:PUBLISH
BEGIN:VEVENT
UID:2ff80bb7ed1d2b67763a16daaa868dd7
CATEGORIES:Veranstaltungen
CREATED:20240415T080932
SUMMARY:Fototermin mit Foto GMR
DESCRIPTION:
DTSTAMP:20260425T171450
DTSTART:20241105T070000
DTEND:20241106T130000
SEQUENCE:0
TRANSP:OPAQUE
END:VEVENT
END:VCALENDAR