BEGIN:VCALENDAR
VERSION:2.0
PRODID:-//jEvents 2.0 for Joomla//EN
CALSCALE:GREGORIAN
METHOD:PUBLISH
BEGIN:VEVENT
UID:394d6d2ac675ac3e347762a3ad24cf04
CATEGORIES:Veranstaltungen
CREATED:20240403T150408
SUMMARY:SGA-Sitzung HLW
DESCRIPTION:
DTSTAMP:20260425T152508
DTSTART:20240417T120000
DTEND:20240417T130000
SEQUENCE:0
TRANSP:OPAQUE
END:VEVENT
END:VCALENDAR