BEGIN:VCALENDAR
VERSION:2.0
PRODID:-//jEvents 2.0 for Joomla//EN
CALSCALE:GREGORIAN
METHOD:PUBLISH
BEGIN:VEVENT
UID:33df046eb3f1c0f21245ad51ba18ba2a
CATEGORIES:Veranstaltungen
CREATED:20240403T150341
SUMMARY:SGA-Sitzung HTL
DESCRIPTION:
DTSTAMP:20260425T152750
DTSTART:20240416T140000
DTEND:20240416T150000
SEQUENCE:0
TRANSP:OPAQUE
END:VEVENT
END:VCALENDAR