BEGIN:VCALENDAR
VERSION:2.0
PRODID:-//jEvents 2.0 for Joomla//EN
CALSCALE:GREGORIAN
METHOD:PUBLISH
BEGIN:VEVENT
UID:2de260a65dc2b6bd557bc1610a440d40
CATEGORIES:Veranstaltungen
CREATED:20240403T150315
SUMMARY:SGA-Sitzung HAK
DESCRIPTION:
DTSTAMP:20260425T152644
DTSTART:20240416T120000
DTEND:20240416T130000
SEQUENCE:0
TRANSP:OPAQUE
END:VEVENT
END:VCALENDAR