BEGIN:VCALENDAR
VERSION:2.0
PRODID:-//jEvents 2.0 for Joomla//EN
CALSCALE:GREGORIAN
METHOD:PUBLISH
BEGIN:VEVENT
UID:e48f0e1c880da41b16fc69e756b46ae2
CATEGORIES:Veranstaltungen
CREATED:20240304T080729
SUMMARY:Pädagogische Konferenz
DESCRIPTION:
DTSTAMP:20260425T153930
DTSTART:20240403T140500
DTEND:20240403T160000
SEQUENCE:0
TRANSP:OPAQUE
END:VEVENT
END:VCALENDAR