BEGIN:VCALENDAR
VERSION:2.0
PRODID:-//jEvents 2.0 for Joomla//EN
CALSCALE:GREGORIAN
METHOD:PUBLISH
BEGIN:VEVENT
UID:cd46cde66aba95a93843b881b3ca1ddd
CATEGORIES:Veranstaltungen
CREATED:20240304T080620
SUMMARY:2.Elternsprechtag
DESCRIPTION:
DTSTAMP:20260425T152703
DTSTART:20240425T143000
DTEND:20240425T173000
SEQUENCE:0
TRANSP:OPAQUE
END:VEVENT
END:VCALENDAR