BEGIN:VCALENDAR
VERSION:2.0
PRODID:-//jEvents 2.0 for Joomla//EN
CALSCALE:GREGORIAN
METHOD:PUBLISH
BEGIN:VEVENT
UID:42c0019f162c4c5459401d974b06d93f
CATEGORIES:Veranstaltungen
CREATED:20240220T104520
SUMMARY:Exkursion KZ-Gedenkstätte Dachau 4.Klassen
DESCRIPTION:
DTSTAMP:20260425T154538
DTSTART:20240402T060000
DTEND:20240402T150000
SEQUENCE:0
TRANSP:OPAQUE
END:VEVENT
END:VCALENDAR