BEGIN:VCALENDAR
VERSION:2.0
PRODID:-//jEvents 2.0 for Joomla//EN
CALSCALE:GREGORIAN
METHOD:PUBLISH
BEGIN:VEVENT
UID:61cc1fd21458baeb07aa36907c1ff986
CATEGORIES:Veranstaltungen
CREATED:20240122T085241
SUMMARY:letzter Schultag Klassen 3wa und 3wb
DESCRIPTION:
DTSTAMP:20260425T171621
DTSTART:20240529T100000
DTEND:20240529T110000
SEQUENCE:0
TRANSP:OPAQUE
END:VEVENT
END:VCALENDAR