BEGIN:VCALENDAR
VERSION:2.0
PRODID:-//jEvents 2.0 for Joomla//EN
CALSCALE:GREGORIAN
METHOD:PUBLISH
BEGIN:VEVENT
UID:df9e85550209455fceb05b3d2bf89f5f
CATEGORIES:Veranstaltungen
CREATED:20240122T085203
SUMMARY:Klassenkonferenz 3wb
DESCRIPTION:
DTSTAMP:20260425T171241
DTSTART:20240522T131500
DTEND:20240522T134500
SEQUENCE:0
TRANSP:OPAQUE
END:VEVENT
END:VCALENDAR