BEGIN:VCALENDAR
VERSION:2.0
PRODID:-//jEvents 2.0 for Joomla//EN
CALSCALE:GREGORIAN
METHOD:PUBLISH
BEGIN:VEVENT
UID:c7b92e95f912c5605fc17594ac2d4df1
CATEGORIES:Veranstaltungen
CREATED:20240122T085128
SUMMARY:Klassenkonferenz 3wa
DESCRIPTION:
DTSTAMP:20260425T171623
DTSTART:20240522T124500
DTEND:20240522T130000
SEQUENCE:0
TRANSP:OPAQUE
END:VEVENT
END:VCALENDAR