BEGIN:VCALENDAR
VERSION:2.0
PRODID:-//jEvents 2.0 for Joomla//EN
CALSCALE:GREGORIAN
METHOD:PUBLISH
BEGIN:VEVENT
UID:a36821dfc4b2091aceb5173ba7214204
CATEGORIES:Veranstaltungen
CREATED:20240122T085046
SUMMARY:Klassenkonferenz 5wb
DESCRIPTION:
DTSTAMP:20260425T154609
DTSTART:20240418T134500
DTEND:20240418T143000
SEQUENCE:0
TRANSP:OPAQUE
END:VEVENT
END:VCALENDAR