BEGIN:VCALENDAR
VERSION:2.0
PRODID:-//jEvents 2.0 for Joomla//EN
CALSCALE:GREGORIAN
METHOD:PUBLISH
BEGIN:VEVENT
UID:34d68294c1c292bba90f8588a58b96b3
CATEGORIES:Veranstaltungen
CREATED:20240122T084958
SUMMARY:Klassenkonferenz 5wa
DESCRIPTION:
DTSTAMP:20260425T154123
DTSTART:20240418T130000
DTEND:20240418T140000
SEQUENCE:0
TRANSP:OPAQUE
END:VEVENT
END:VCALENDAR