BEGIN:VCALENDAR
VERSION:2.0
PRODID:-//jEvents 2.0 for Joomla//EN
CALSCALE:GREGORIAN
METHOD:PUBLISH
BEGIN:VEVENT
UID:e915e1092a90d48232f5ee931f94d4a0
CATEGORIES:Veranstaltungen
CREATED:20240122T084906
SUMMARY:Noteneintragung Klassen 3wa und 3wb
DESCRIPTION:
DTSTAMP:20260425T171320
DTSTART:20240522T100000
DTEND:20240522T110000
SEQUENCE:0
TRANSP:OPAQUE
END:VEVENT
END:VCALENDAR