BEGIN:VCALENDAR
VERSION:2.0
PRODID:-//jEvents 2.0 for Joomla//EN
CALSCALE:GREGORIAN
METHOD:PUBLISH
BEGIN:VEVENT
UID:bab10770af5aebca83a385d9c48fdda9
CATEGORIES:Veranstaltungen
CREATED:20240122T084821
SUMMARY:Notenschluss Klassen 3wa und 3wb
DESCRIPTION:
DTSTAMP:20260425T171621
DTSTART:20240522T100000
DTEND:20240522T110000
SEQUENCE:0
TRANSP:OPAQUE
END:VEVENT
END:VCALENDAR