BEGIN:VCALENDAR
VERSION:2.0
PRODID:-//jEvents 2.0 for Joomla//EN
CALSCALE:GREGORIAN
METHOD:PUBLISH
BEGIN:VEVENT
UID:4e1cd16d1cf8270784b5f8c17cf25f69
CATEGORIES:Veranstaltungen
CREATED:20240122T084725
SUMMARY:Abgabe der mündlichen Aufgaben RDP 2023/24 5wa und 5wb
DESCRIPTION:
DTSTAMP:20260425T203217
DTSTART:20240613T100000
DTEND:20240613T110000
SEQUENCE:0
TRANSP:OPAQUE
END:VEVENT
END:VCALENDAR