BEGIN:VCALENDAR
VERSION:2.0
PRODID:-//jEvents 2.0 for Joomla//EN
CALSCALE:GREGORIAN
METHOD:PUBLISH
BEGIN:VEVENT
UID:f6a2bc11a754e2c11c4c53fbde1d2195
CATEGORIES:Veranstaltungen
CREATED:20240122T084541
SUMMARY:Konferenz der Prüfer:Innen RDP 2023/24 5wb
DESCRIPTION:
DTSTAMP:20260425T171148
DTSTART:20240521T134500
DTEND:20240521T143000
SEQUENCE:0
TRANSP:OPAQUE
END:VEVENT
END:VCALENDAR