BEGIN:VCALENDAR
VERSION:2.0
PRODID:-//jEvents 2.0 for Joomla//EN
CALSCALE:GREGORIAN
METHOD:PUBLISH
BEGIN:VEVENT
UID:b0ce5c2bfac73e6142ef5209701a8fab
CATEGORIES:Veranstaltungen
CREATED:20240122T084503
SUMMARY:Konferenz der Prüfer:Innen RDP 2023/24 5wa
DESCRIPTION:
DTSTAMP:20260425T171525
DTSTART:20240521T124500
DTEND:20240521T133000
SEQUENCE:0
TRANSP:OPAQUE
END:VEVENT
END:VCALENDAR