BEGIN:VCALENDAR
VERSION:2.0
PRODID:-//jEvents 2.0 for Joomla//EN
CALSCALE:GREGORIAN
METHOD:PUBLISH
BEGIN:VEVENT
UID:f4fd7748d64fb059bb370e8615c97b1f
CATEGORIES:Veranstaltungen
CREATED:20240122T084413
SUMMARY:Konferenz der Prüfer:Innen RDP 2023/24 5a
DESCRIPTION:
DTSTAMP:20260425T171127
DTSTART:20240521T144500
DTEND:20240521T151500
SEQUENCE:0
TRANSP:OPAQUE
END:VEVENT
END:VCALENDAR