BEGIN:VCALENDAR
VERSION:2.0
PRODID:-//jEvents 2.0 for Joomla//EN
CALSCALE:GREGORIAN
METHOD:PUBLISH
BEGIN:VEVENT
UID:e4b7ea7c7f572892063ce229f33f6281
CATEGORIES:Veranstaltungen
CREATED:20240122T084309
SUMMARY:Abgabe der korrigierten Arbeiten RDP 2023/24 5a, 5wa und 5wb
DESCRIPTION:
DTSTAMP:20260425T171144
DTSTART:20240517T100000
DTEND:20240517T110000
SEQUENCE:0
TRANSP:OPAQUE
END:VEVENT
END:VCALENDAR