BEGIN:VCALENDAR
VERSION:2.0
PRODID:-//jEvents 2.0 for Joomla//EN
CALSCALE:GREGORIAN
METHOD:PUBLISH
BEGIN:VEVENT
UID:cc118e778bb4ccee4ded6d0c1a01b14f
CATEGORIES:Veranstaltungen
CREATED:20240122T084104
SUMMARY:letzter Schultag 5a, 5wa und 5wb
DESCRIPTION:
DTSTAMP:20260425T152620
DTSTART:20240426T060000
DTEND:20240426T120000
SEQUENCE:0
TRANSP:OPAQUE
END:VEVENT
END:VCALENDAR