BEGIN:VCALENDAR
VERSION:2.0
PRODID:-//jEvents 2.0 for Joomla//EN
CALSCALE:GREGORIAN
METHOD:PUBLISH
BEGIN:VEVENT
UID:213e84137d33937457b186326c744a48
CATEGORIES:Veranstaltungen
CREATED:20240122T084021
SUMMARY:Wiederholungsprüfungen 5a, 5wa und 5wb
DESCRIPTION:
DTSTAMP:20260425T152829
DTSTART:20240424T060000
DTEND:20240424T120000
SEQUENCE:0
TRANSP:OPAQUE
END:VEVENT
END:VCALENDAR