BEGIN:VCALENDAR
VERSION:2.0
PRODID:-//jEvents 2.0 for Joomla//EN
CALSCALE:GREGORIAN
METHOD:PUBLISH
BEGIN:VEVENT
UID:9aa4e0a15ec567d0cdf80b9bd60359d2
CATEGORIES:Veranstaltungen
CREATED:20240122T083915
SUMMARY:Coachingtage 5a, 5wa und 5wb
DESCRIPTION:
DTSTAMP:20260425T153806
DTSTART:20240422T060000
DTEND:20240425T150000
SEQUENCE:0
TRANSP:OPAQUE
END:VEVENT
END:VCALENDAR